Workbook

Sheet DEVIZ GENERAL MINIMAL
A2: DEVIZ GENERAL MINIMAL
A3: al obiectivului de investiţii
A4: ”AMENAJARE TEREN SPORT STRADA BUSUIOCULUI - REAMENAJARE” MUNICIPIUL TÂRGU MUREŞ, JUD. MUREȘ
D6: Valoare (lei)
A7: Nr. crt. | B7: Denumirea capitolelor şi a subcapitolelor de cheltuieli | C7: Valoare (fără TVA) | D7: TVA (lei) | E7: Valoare (cu TVA)
C8: lei | D8: 0.21 | E8: lei
A9: 1 | B9: 2 | C9: 3 | D9: 4 | E9: 5
A10: CAPITOLUL 1
A11: Cheltuieli pentru obţinerea şi amenajarea terenului
A12: 1.1 | B12: Obţinerea terenului | C12: ='OBIECTUL TEREN SPORT'!C12 -> 0 | D12: =ROUND(C12*$D$8,2) -> 0 | E12: =C12+D12 -> 0
A13: 1.2 | B13: Amenajarea terenului | C13: ='OBIECTUL TEREN SPORT'!C13 -> 0 | D13: =ROUND(C13*$D$8,2) -> 0 | E13: =C13+D13 -> 0
A14: 1.3 | B14: Amenajări pentru protecţia mediului şi aducerea terenului la starea iniţială | C14: ='OBIECTUL TEREN SPORT'!C14 -> 0 | D14: =ROUND(C14*$D$8,2) -> 0 | E14: =C14+D14 -> 0
A15: 1.4 | B15: Cheltuieli pentru relocarea/protecţia utilităţilor | C15: ='OBIECTUL TEREN SPORT'!C15 -> 0 | D15: =ROUND(C15*$D$8,2) -> 0 | E15: =C15+D15 -> 0
A16: TOTAL CAPITOL 1 | C16: =C12+C13+C14+C15 -> 0 | D16: =D12+D13+D14+D15 -> 0 | E16: =E12+E13+E14+E15 -> 0
A17: CAPITOLUL 2
A18: Cheltuieli pentru asigurarea utilităţilor necesare obiectivului de investiţii
A19: 2 | B19: Cheltuieli pentru asigurarea utilitatilor necesare obiectivului | C19: 0 | D19: =ROUND(C19*$D$8,2) -> 0 | E19: =C19+D19 -> 0
A20: TOTAL CAPITOL 2 | C20: =C19 -> 0 | D20: =D19 -> 0 | E20: =E19 -> 0
A21: CAPITOLUL 3
A22: Cheltuieli pentru proiectare şi asistenţă tehnică
A23: 3.1 | B23: Studii | C23: =(C24+C25+C26) -> 1000 | D23: =(D24+D25+D26) -> 210 | E23: =(E24+E25+E26) -> 1210
B24: 3.1.1. Studii de teren | C24: 1000 | D24: =ROUND(C24*$D$8,2) -> 210 | E24: =C24+D24 -> 1210
B25: 3.1.2. Raport privind impactul asupra mediului | C25: 0 | D25: =ROUND(C25*$D$8,2) -> 0 | E25: =C25+D25 -> 0
B26: 3.1.3. Alte studii specifice | C26: 0 | D26: =ROUND(C26*$D$8,2) -> 0 | E26: =C26+D26 -> 0
A27: 3.2 | B27: Documentaţii-suport şi cheltuieli pentru obţinerea de avize, acorduri şi autorizaţii | C27: 20000 | D27: =ROUND(C27*$D$8,2) -> 4200 | E27: =C27+D27 -> 24200
A28: 3.3 | B28: Expertizare tehnică | C28: 0 | D28: =ROUND(C28*$D$8,2) -> 0 | E28: =C28+D28 -> 0
A29: 3.4 | B29: Certificarea performanţei energetice şi auditul energetic al clădirilor, auditul de siguranță rutieră | C29: 0 | D29: =ROUND(C29*$D$8,2) -> 0 | E29: =C29+D29 -> 0
A30: 3.5 | B30: Proiectare | C30: =C31+C32+C33+C34+C35+C36 -> 195000 | D30: =D31+D32+D33+D34+D35+D36 -> 40950 | E30: =E31+E32+E33+E34+E35+E36 -> 235950
B31: 3.5.1. Temă de proiectare | C31: 0 | D31: =ROUND(C31*$D$8,2) -> 0 | E31: =C31+D31 -> 0
B32: 3.5.2. Studiu de prefezabilitate | C32: 0 | D32: =ROUND(C32*$D$8,2) -> 0 | E32: =C32+D32 -> 0
B33: 3.5.3. Studiu de fezabilitate/documentaţie de avizare a lucrărilor de intervenţii şi deviz general | C33: 60000 | D33: =ROUND(C33*$D$8,2) -> 12600 | E33: =C33+D33 -> 72600
B34: 3.5.4. Documentaţiile tehnice necesare în vederea obţinerii avizelor/acordurilor/autorizaţiilor | C34: 5000 | D34: =ROUND(C34*$D$8,2) -> 1050 | E34: =C34+D34 -> 6050
B35: 3.5.5. Verificarea tehnică de calitate a proiectului tehnic şi a detaliilor de execuţie | C35: 10000 | D35: =ROUND(C35*$D$8,2) -> 2100 | E35: =C35+D35 -> 12100
B36: 3.5.6. Proiect tehnic şi detalii de execuţie | C36: 120000 | D36: =ROUND(C36*$D$8,2) -> 25200 | E36: =C36+D36 -> 145200
A37: 3.6 | B37: Organizarea procedurilor de achiziţie | C37: 2000 | D37: =ROUND(C37*$D$8,2) -> 420 | E37: =C37+D37 -> 2420
A38: 3.7 | B38: Consultanţă | C38: =C39+C40 -> 0 | D38: =D39+D40 -> 0 | E38: =E39+E40 -> 0
B39: 3.7.1. Managementul de proiect pentru obiectivul de investiţii | C39: 0 | D39: =ROUND(C39*$D$8,2) -> 0 | E39: =C39+D39 -> 0
B40: 3.7.2. Auditul financiar | C40: 0 | D40: =ROUND(C40*$D$8,2) -> 0 | E40: =C40+D40 -> 0
A41: 3.8 | B41: Asistenţă tehnică | C41: =C42+C45+C46 -> 18500 | D41: =D42+D45 -> 3675 | E41: =C41+D41 -> 22175
B42: 3.8.1. Asistenţă tehnică din partea proiectantului | C42: =C43+C44 -> 10000 | D42: =D43+D44 -> 2100 | E42: =E43+E44 -> 12100
B43: 3.8.1.1. pe perioada de execuţie a lucrărilor | C43: 5000 | D43: =ROUND(C43*$D$8,2) -> 1050 | E43: =C43+D43 -> 6050
B44: 3.8.1.2. pentru participarea proiectantului la fazele incluse în programul de control al lucrărilor de execuţie, avizat de către Inspectoratul de Stat în Construcţii | C44: 5000 | D44: =ROUND(C44*$D$8,2) -> 1050 | E44: =C44+D44 -> 6050
B45: 3.8.2. Dirigenţie de şantier | C45: 7500 | D45: =ROUND(C45*$D$8,2) -> 1575 | E45: =C45+D45 -> 9075
B46: 3.8.3. Coordonator în materie de securitate și sănătate - conform Hotărârii Guvernului nr. 300/2006, cu modificările și completările ulterioare | C46: 1000 | D46: =ROUND(C46*$D$8,2) -> 210 | E46: =C46+D46 -> 1210
A47: TOTAL CAPITOL 3 | C47: =C23+C27+C28+C29+C30+C37+C38+C41 -> 236500 | D47: =D23+D27+D28+D29+D30+D37+D38+D41 -> 49455 | E47: =E23+E27+E28+E29+E30+E37+E38+E41 -> 285955
A48: CAPITOLUL 4
A49: Cheltuieli pentru investiţia de bază
A50: 4.1 | B50: Construcţii şi instalaţii | C50: =SUM(C51:C51) -> 840000 | D50: =SUM(D51:D51) -> 176400 | E50: =C50+D50 -> 1016400
B51: 4.1.1 Obiect teren sport | C51: ='OBIECTUL TEREN SPORT'!C21 -> 840000 | D51: =ROUND(C51*$D$8,2) -> 176400 | E51: =C51+D51 -> 1016400
A52: 4.2 | B52: Montaj utilaje, echipamente tehnologice şi funcţionale | C52: ='OBIECTUL TEREN SPORT'!C22 -> 0 | D52: =ROUND(C52*$D$8,2) -> 0 | E52: =C52+D52 -> 0
A53: 4.3 | B53: Utilaje, echipamente tehnologice şi funcţionale care necesită montaj | C53: ='OBIECTUL TEREN SPORT'!C24 -> 0 | D53: =ROUND(C53*$D$8,2) -> 0 | E53: =C53+D53 -> 0
A54: 4.4 | B54: Utilaje, echipamente tehnologice şi funcţionale care nu necesită montaj şi echipamente de transport | C54: ='OBIECTUL TEREN SPORT'!C25 -> 0 | D54: =ROUND(C54*$D$8,2) -> 0 | E54: =C54+D54 -> 0
A55: 4.5 | B55: Dotări | C55: ='OBIECTUL TEREN SPORT'!C26 -> 41850 | D55: =ROUND(C55*$D$8,2) -> 8788.5 | E55: =C55+D55 -> 50638.5
A56: 4.6 | B56: Active necorporale | C56: ='OBIECTUL TEREN SPORT'!C27 -> 0 | D56: =ROUND(C56*$D$8,2) -> 0 | E56: =C56+D56 -> 0
A57: TOTAL CAPITOL 4 | C57: =C50+C52+C53+C54+C55+C56 -> 881850 | D57: =D50+D52+D53+D54+D55+D56 -> 185188.5 | E57: =E50+E52+E53+E54+E55+E56 -> 1067038.5
A58: CAPITOLUL 5
A59: Alte cheltuieli
A60: 5.1 | B60: Organizare de şantier | C60: =C61+C62 -> 22046.25 | D60: =D61+D62 -> 4629.7125 | E60: =E61+E62 -> 26675.963
B61: 5.1.1. Lucrări de construcţii şi instalaţii aferente organizării de şantier | C61: =C87*C57 -> 22046.25 | D61: =C61*$D$8 -> 4629.7125 | E61: =C61+D61 -> 26675.963
B62: 5.1.2. Cheltuieli conexe organizării şantierului | C62: 0 | D62: =C62*$D$8 -> 0 | E62: =C62+D62 -> 0
A63: 5.2 | B63: Comisioane, taxe, cote, costul creditului | C63: =C64+C65+C66+C67+C68 -> 11982.51 | D63: =D64+D65+D66+D67+D68 -> 0 | E63: =E64+E65+E66+E67+E68 -> 11982.51
B64: 5.2.1. Comisioanele şi dobânzile aferente creditului băncii finanţatoare | C64: 0 | D64: 0 | E64: =C64+D64 -> 0
B65: 5.2.2. Cota aferentă ISC pentru controlul calității lucrărilor de construcții | C65: =ROUND(C82*0.5/100,2) -> 4310.23 | D65: 0 | E65: =C65+D65 -> 4310.23
B66: 5.2.3. Cota aferentă ISC pentru controlul statului în amenajarea teritoriului, urbanism și pentru autorizarea lucrărilor de construcții | C66: =ROUND(C82*0.1/100,2) -> 862.05 | D66: 0 | E66: =C66+D66 -> 862.05
B67: 5.2.4. Cota aferentă Casei Sociale a Constructorilor – CSC | C67: =ROUND(C82*0.5/100,2) -> 4310.23 | D67: 0 | E67: =C67+D67 -> 4310.23
B68: 5.2.5. Taxe pentru acorduri, avize conforme şi autorizaţia de construire/desfiinţare | C68: 2500 | D68: 0 | E68: =C68+D68 -> 2500
A69: 5.3 | B69: Cheltuieli diverse şi neprevăzute | C69: =ROUND(C82*C88,2) -> 21551.16 | D69: =C69*$D$8 -> 4525.7436 | E69: =C69+D69 -> 26076.904
A70: 5.4 | B70: Cheltuieli pentru informare şi publicitate | C70: 0 | D70: =C70*$D$8 -> 0 | E70: =C70+D70 -> 0
A71: TOTAL CAPITOL 5 | C71: =C60+C63+C69+C70 -> 55579.92 | D71: =D60+D63+D69+D70 -> 9155.4561 | E71: =E60+E63+E69+E70 -> 64735.376
A72: CAPITOLUL 6
A73: Cheltuieli pentru probe tehnologice şi teste
A74: 6.1 | B74: Pregătirea personalului de exploatare | C74: 0 | D74: =C74*$D$8 -> 0 | E74: =C74+D74 -> 0
A75: 6.2 | B75: Probe tehnologice şi teste | C75: 0 | D75: =C75*$D$8 -> 0 | E75: =C75+D75 -> 0
A76: Total capitol 6 | C76: =C74+C75 -> 0 | D76: =D74+D75 -> 0 | E76: =E74+E75 -> 0
A77: CAPITOLUL 7
A78: Cheltuieli aferente marjei de buget și pentru constituirea rezervei de implementare pentru ajustarea de preț
A79: 7.1 | B79: Cheltuieli aferente marjei de buget (max 25%) din (1+2+3+4+5.1.1) | C79: =(C16+C20+C47+C57+C60)*C86 -> 57019.812 | D79: =C79*$D$8 -> 11974.161 | E79: =C79+D79 -> 68993.973
A80: 7.2 | B80: Cheltuieli pentru constituirea rezervei de implementare pentru ajustarea de preț | C80: =C79 -> 57019.812 | D80: =C80*$D$8 -> 11974.161 | E80: =C80+D80 -> 68993.973
A81: TOTAL GENERAL | C81: =C16+C20+C47+C57+C71+C76+C79+C80 -> 1287969.5 | D81: =D16+D20+D47+D57+D71+D76+D79+D80 -> 267747.28 | E81: =C81+D81 -> 1555716.8
A82: din care: C + M (1.2+1.3+1.4+2+4.1+4.2+5.1.1) | C82: =C13+C14+C15+C20+C50+C52+C61 -> 862046.25 | D82: =D13+D14+D15+D20+D50+D52+D61 -> 181029.71 | E82: =E13+E14+E15+E20+E50+E52+E61 -> 1043076
A83: Curs ghid | C83: auguast 2026 | D83: infor euro / lei | E83: 5.2434
C84: =C81/E83 -> 245636.33 | D84: eur | E84: =E81/E83 -> 296700.01 | F84: =E84*E83 -> 1555716.8 | G84: RON
C85: =C82/E83 -> 164405.97 | D85: eur | E85: =E82/E83 -> 198931.22
B86: 7.1,7.2 | C86: 0.05
B87: 5.1.1. Lucrări de CI aferente organizării de şantier [%] | C87: 0.025
B88: 5.3. Cheltuieli diverse şi neprevăzute [%]: | C88: 0.025
B89: Suprafata la care se aplica [mp] | C89: 414.69 | D89: mp
A90: Data: | B90: auguast 2026
B92: Întocmit: | C92: AT STUDIO SRL
B93: Director proiect: | C93: Ing.C.V. ASZALOS TIBOR ALBERT
B94: Functia: | C94: DIRECTOR PROIECT
B97: Beneficiar/Investitor: | C97: MUNICIPIUL TARGU MURES

Sheet OBIECTUL TEREN SPORT
E1: FORMULARUL F2
A2: DEVIZUL OBIECTULUI ANEXE SI AMENAJARI FUNCTIONALE
A3: al obiectivului de investiţii
A4: ”AMENAJARE TEREN SPORT STRADA BUSUIOCULUI - REAMENAJARE” MUNICIPIUL TÂRGU MUREŞ, JUD. MUREȘ
D6: Valoare (lei)
A7: Nr. crt. | B7: Denumirea capitolelor şi subcapitolelor de cheltuieli | C7: Valoare (fără TVA) | D7: TVA (lei) | E7: Valoare (cu TVA)
C8: lei | D8: 0.21 | E8: lei
A9: 1 | B9: 2 | C9: 3 | D9: 4 | E9: 5
A10: CAPITOLUL 1
A11: Cheltuieli pentru obţinerea şi amenajarea terenului
A12: 1.1 | B12: Obţinerea terenului | C12: 0 | D12: =ROUND(C12*$D$8,2) -> 0 | E12: =C12+D12 -> 0
A13: 1.2 | B13: Amenajarea terenului | C13: 0 | D13: =ROUND(C13*$D$8,2) -> 0 | E13: =C13+D13 -> 0
A14: 1.3 | B14: Amenajări pentru protecţia mediului şi aducerea terenului la starea iniţială | C14: 0 | D14: =ROUND(C14*$D$8,2) -> 0 | E14: =C14+D14 -> 0
A15: 1.4 | B15: Cheltuieli pentru relocarea/protecţia utilităţilor | C15: 0 | D15: =ROUND(C15*$D$8,2) -> 0 | E15: =C15+D15 -> 0
A16: TOTAL CAPITOL 1 | C16: =C12+C13+C14+C15 -> 0 | D16: =D12+D13+D14+D15 -> 0 | E16: =E12+E13+E14+E15 -> 0
A17: CAPITOLUL 4
A18: Cheltuieli pentru investiţia de bază
A19: 4.1. | B19: Construcţii şi instalaţii | C19: =C20 -> 840000 | D19: =D20 -> 176400 | E19: =E20 -> 1016400 | G19: PU[eur]/mp | H19: mp
B20: 4.1.1. Construire teren sport | C20: 840000 | D20: =ROUND(C20*$D$8,2) -> 176400 | E20: =C20+D20 -> 1016400 | G20: 1650 | H20: 160
A21: TOTAL I - subcap. 4.1 | C21: =C19 -> 840000 | D21: =D19 -> 176400 | E21: =E19 -> 1016400
A22: 4.2 | B22: Montaj utilaje, echipamente tehnologice şi funcţionale | C22: ='LISTA DE UTILAJE'!G12 -> 0 | D22: =ROUND(C22*$D$8,2) -> 0 | E22: =C22+D22 -> 0
A23: TOTAL II - subcap. 4.2 | C23: =C22 -> 0 | D23: =D22 -> 0 | E23: =E22 -> 0
A24: 4.3 | B24: Utilaje, echipamente tehnologice şi funcţionale care necesită montaj | C24: ='LISTA DE UTILAJE'!E12 -> 0 | D24: =ROUND(C24*$D$8,2) -> 0 | E24: =C24+D24 -> 0
A25: 4.4 | B25: Utilaje, echipamente tehnologice şi funcţionale care nu necesită montaj şi echipamente de transport | C25: 0 | D25: =ROUND(C25*$D$8,2) -> 0 | E25: =C25+D25 -> 0
A26: 4.5 | B26: Dotari | C26: ='LISTA DOTARI MOBILARE'!E12 -> 41850 | D26: =ROUND(C26*$D$8,2) -> 8788.5 | E26: =C26+D26 -> 50638.5
A27: 4.6 | B27: Active necorporale. | C27: 0 | D27: =ROUND(C27*$D$8,2) -> 0 | E27: =C27+D27 -> 0
A28: TOTAL III - subcap. 4.3+4.4+4.5+4.6 | C28: =SUM(C24:C27) -> 41850 | D28: =SUM(D24:D27) -> 8788.5 | E28: =SUM(E24:E27) -> 50638.5
A29: Total deviz pe obiect (Total I+ Total II + Total III) | C29: =C16+C21+C23+C28 -> 881850 | D29: =D16+D21+D23+D28 -> 185188.5 | E29: =E16+E21+E23+E28 -> 1067038.5
A30: Curs ghid | C30: auguast 2026 | D30: euro / lei | E30: 5.2434
A32: Data: | B32: auguast 2026
B33: Întocmit: | C33: AT STUDIO SRL
B34: Director proiect: | C34: Ing.C.V. ASZALOS TIBOR ALBERT
B35: Functia: | C35: DIRECTOR PROIECT
B38: Beneficiar/Investitor: | C38: MUNICIPIUL TARGU MURES

Sheet LISTA DE UTILAJE
A1: LISTA UTILAJE, ECHIPAMENTE TEHNOLOGICE SI FUNCTIONALE CARE NECESITA MONTAJ
A2: al obiectivului de investiţii
A3: ”AMENAJARE TEREN SPORT STRADA BUSUIOCULUI - REAMENAJARE” MUNICIPIUL TÂRGU MUREŞ, JUD. MUREȘ
A5: Nr. crt. | B5: Denumire | C5: Buc | D5: PU [lei] | E5: VT [lei] | F5: PU MONTAJ [lei] | G5: MONTAJ [lei] | H5: FT | I5: PLA
A6: 1 | B6: 2 | C6: 3 | D6: 4 | E6: 5 | F6: 6 | G6: 6 | H6: 7
A7: 1 | B7: Container funcțional (grup sanitar, vestiar și spațiu de depozitare) | C7: 0 | D7: 33250 | E7: =C7*D7 -> 0 | F7: 19000 | G7: =C7*F7 -> 0 | H7: 1
A8: 2 | B8: Tribună / loc de odihnă | C8: 0 | D8: 15000 | E8: =C8*D8 -> 0 | F8: 7000 | G8: =C8*F8 -> 0 | H8: 2
A9: 3 | B9: Sistem de iluminat al terenului multisport | C9: 0 | D9: 24500 | E9: =C9*D9 -> 0 | F9: 16200 | G9: =C9*F9 -> 0 | H9: 3
A10: 4 | B10: Sistem de supraveghere video (CCTV) și transmiterea datelor | C10: 0 | D10: 4800 | E10: =C10*D10 -> 0 | F10: 4400 | G10: =C10*F10 -> 0 | H10: 4
A11: 5 | B11: Stalp de iluminat ornamental tip ST1, hutil maxim=4ml, echipat | C11: 0 | D11: 1500 | E11: =C11*D11 -> 0 | F11: 1000 | G11: =C11*F11 -> 0 | H11: 5
B12: TOTAL UTILAJE SI ECHIPAMENTE | C12: =SUM(C7:C11) -> 0 | E12: =SUM(E7:E11) -> 0 | G12: =SUM(G7:G11) -> 0
A14: Data: | B14: auguast 2026
B15: Întocmit: AT STUDIO SRL | E15: Beneficiar/Investitor: MUNICIPIUL TARGU MURES

Sheet LISTA DOTARI MOBILARE
A2: LISTA DOTARI SI MOBILARE
A3: al obiectivului de investiţii
A4: ”AMENAJARE TEREN SPORT STRADA BUSUIOCULUI - REAMENAJARE” MUNICIPIUL TÂRGU MUREŞ, JUD. MUREȘ
A6: Nr. crt. | B6: Denumire | C6: Buc | D6: PU [lei] | E6: VT [lei] | F6: FT
A7: 1 | B7: 2 | C7: 3 | D7: 4 | E7: 5 | F7: 8
B8: DOTARI MOBILARE GENERALA
A9: 1 | B9: Set de accesorii sportive pentru dotarea terenului multifuncțional | C9: 1 | D9: 22000 | E9: =C9*D9 -> 22000 | F9: 6
A10: 2 | B10: Banca stradala cu spatar central cu lemn | C10: 1 | D10: 15500 | E10: =C10*D10 -> 15500 | F10: 7
A11: 9 | B11: Cos stradal de gunoi pentru colectare selectiva | C11: 3 | D11: 1450 | E11: =C11*D11 -> 4350 | F11: 8
B12: TOTAL MOBILARE GENERALA PARC | C12: =SUM(C9:C11) -> 5 | E12: =SUM(E9:E11) -> 41850 | G12: la obiect parc
A15: Data: | B15: auguast 2026
B16: Întocmit: | C16: AT STUDIO SRL
B17: Director proiect: | C17: Ing.C.V. ASZALOS TIBOR ALBERT
B18: Functia: | C18: DIRECTOR PROIECT
B21: Beneficiar/Investitor: | C21: MUNICIPIUL TARGU MURES
