Workbook

Sheet DEVIZ GENERAL MINIMAL
A2: DEVIZ GENERAL MINIMAL
A3: al obiectivului de investiţii
A4: ”AMENAJARE TEREN SPORT STRADA BUSUIOCULUI - REAMENAJARE” MUNICIPIUL TÂRGU MUREŞ, JUD. MUREȘ
D6: Valoare (lei)
A7: Nr. crt. | B7: Denumirea capitolelor şi a subcapitolelor de cheltuieli | C7: Valoare (fără TVA) | D7: TVA (lei) | E7: Valoare (cu TVA)
C8: lei | D8: 0.21 | E8: lei
A9: 1 | B9: 2 | C9: 3 | D9: 4 | E9: 5
A10: CAPITOLUL 1
A11: Cheltuieli pentru obţinerea şi amenajarea terenului
A12: 1.1 | B12: Obţinerea terenului | C12: ='OBIECTUL TEREN SPORT'!C12 -> 0 | D12: =ROUND(C12*$D$8,2) -> 0 | E12: =C12+D12 -> 0
A13: 1.2 | B13: Amenajarea terenului | C13: ='OBIECTUL TEREN SPORT'!C13 -> 0 | D13: =ROUND(C13*$D$8,2) -> 0 | E13: =C13+D13 -> 0
A14: 1.3 | B14: Amenajări pentru protecţia mediului şi aducerea terenului la starea iniţială | C14: ='OBIECTUL TEREN SPORT'!C14 -> 0 | D14: =ROUND(C14*$D$8,2) -> 0 | E14: =C14+D14 -> 0
A15: 1.4 | B15: Cheltuieli pentru relocarea/protecţia utilităţilor | C15: ='OBIECTUL TEREN SPORT'!C15 -> 0 | D15: =ROUND(C15*$D$8,2) -> 0 | E15: =C15+D15 -> 0
A16: TOTAL CAPITOL 1 | C16: =C12+C13+C14+C15 -> 0 | D16: =D12+D13+D14+D15 -> 0 | E16: =E12+E13+E14+E15 -> 0
A17: CAPITOLUL 2
A18: Cheltuieli pentru asigurarea utilităţilor necesare obiectivului de investiţii
A19: 2 | B19: Cheltuieli pentru asigurarea utilitatilor necesare obiectivului | C19: 0 | D19: =ROUND(C19*$D$8,2) -> 0 | E19: =C19+D19 -> 0
A20: TOTAL CAPITOL 2 | C20: =C19 -> 0 | D20: =D19 -> 0 | E20: =E19 -> 0
A21: CAPITOLUL 3
A22: Cheltuieli pentru proiectare şi asistenţă tehnică
A23: 3.1 | B23: Studii | C23: =(C24+C25+C26) -> 1000 | D23: =(D24+D25+D26) -> 210 | E23: =(E24+E25+E26) -> 1210
B24: 3.1.1. Studii de teren | C24: 1000 | D24: =ROUND(C24*$D$8,2) -> 210 | E24: =C24+D24 -> 1210
B25: 3.1.2. Raport privind impactul asupra mediului | C25: 0 | D25: =ROUND(C25*$D$8,2) -> 0 | E25: =C25+D25 -> 0
B26: 3.1.3. Alte studii specifice | C26: 0 | D26: =ROUND(C26*$D$8,2) -> 0 | E26: =C26+D26 -> 0
A27: 3.2 | B27: Documentaţii-suport şi cheltuieli pentru obţinerea de avize, acorduri şi autorizaţii | C27: 20000 | D27: =ROUND(C27*$D$8,2) -> 4200 | E27: =C27+D27 -> 24200
A28: 3.3 | B28: Expertizare tehnică | C28: 0 | D28: =ROUND(C28*$D$8,2) -> 0 | E28: =C28+D28 -> 0
A29: 3.4 | B29: Certificarea performanţei energetice şi auditul energetic al clădirilor, auditul de siguranță rutieră | C29: 0 | D29: =ROUND(C29*$D$8,2) -> 0 | E29: =C29+D29 -> 0
A30: 3.5 | B30: Proiectare | C30: =C31+C32+C33+C34+C35+C36 -> 195000 | D30: =D31+D32+D33+D34+D35+D36 -> 40950 | E30: =E31+E32+E33+E34+E35+E36 -> 235950
B31: 3.5.1. Temă de proiectare | C31: 0 | D31: =ROUND(C31*$D$8,2) -> 0 | E31: =C31+D31 -> 0
B32: 3.5.2. Studiu de prefezabilitate | C32: 0 | D32: =ROUND(C32*$D$8,2) -> 0 | E32: =C32+D32 -> 0
B33: 3.5.3. Studiu de fezabilitate/documentaţie de avizare a lucrărilor de intervenţii şi deviz general | C33: 60000 | D33: =ROUND(C33*$D$8,2) -> 12600 | E33: =C33+D33 -> 72600
B34: 3.5.4. Documentaţiile tehnice necesare în vederea obţinerii avizelor/acordurilor/autorizaţiilor | C34: 5000 | D34: =ROUND(C34*$D$8,2) -> 1050 | E34: =C34+D34 -> 6050
B35: 3.5.5. Verificarea tehnică de calitate a proiectului tehnic şi a detaliilor de execuţie | C35: 10000 | D35: =ROUND(C35*$D$8,2) -> 2100 | E35: =C35+D35 -> 12100
B36: 3.5.6. Proiect tehnic şi detalii de execuţie | C36: 120000 | D36: =ROUND(C36*$D$8,2) -> 25200 | E36: =C36+D36 -> 145200
A37: 3.6 | B37: Organizarea procedurilor de achiziţie | C37: 2000 | D37: =ROUND(C37*$D$8,2) -> 420 | E37: =C37+D37 -> 2420
A38: 3.7 | B38: Consultanţă | C38: =C39+C40 -> 0 | D38: =D39+D40 -> 0 | E38: =E39+E40 -> 0
B39: 3.7.1. Managementul de proiect pentru obiectivul de investiţii | C39: 0 | D39: =ROUND(C39*$D$8,2) -> 0 | E39: =C39+D39 -> 0
B40: 3.7.2. Auditul financiar | C40: 0 | D40: =ROUND(C40*$D$8,2) -> 0 | E40: =C40+D40 -> 0
A41: 3.8 | B41: Asistenţă tehnică | C41: =C42+C45+C46 -> 18500 | D41: =D42+D45 -> 3675 | E41: =C41+D41 -> 22175
B42: 3.8.1. Asistenţă tehnică din partea proiectantului | C42: =C43+C44 -> 10000 | D42: =D43+D44 -> 2100 | E42: =E43+E44 -> 12100
...

Sheet OBIECTUL TEREN SPORT
E1: FORMULARUL F2
A2: DEVIZUL OBIECTULUI ANEXE SI AMENAJARI FUNCTIONALE
A3: al obiectivului de investiţii
A4: ”AMENAJARE TEREN SPORT STRADA BUSUIOCULUI - REAMENAJARE” MUNICIPIUL TÂRGU MUREŞ, JUD. MUREȘ
D6: Valoare (lei)
A7: Nr. crt. | B7: Denumirea capitolelor şi subcapitolelor de cheltuieli | C7: Valoare (fără TVA) | D7: TVA (lei) | E7: Valoare (cu TVA)
C8: lei | D8: 0.21 | E8: lei
A9: 1 | B9: 2 | C9: 3 | D9: 4 | E9: 5
A10: CAPITOLUL 1
A11: Cheltuieli pentru obţinerea şi amenajarea terenului
A12: 1.1 | B12: Obţinerea terenului | C12: 0 | D12: =ROUND(C12*$D$8,2) -> 0 | E12: =C12+D12 -> 0
A13: 1.2 | B13: Amenajarea terenului | C13: 0 | D13: =ROUND(C13*$D$8,2) -> 0 | E13: =C13+D13 -> 0
A14: 1.3 | B14: Amenajări pentru protecţia mediului şi aducerea terenului la starea iniţială | C14: 0 | D14: =ROUND(C14*$D$8,2) -> 0 | E14: =C14+D14 -> 0
A15: 1.4 | B15: Cheltuieli pentru relocarea/protecţia utilităţilor | C15: 0 | D15: =ROUND(C15*$D$8,2) -> 0 | E15: =C15+D15 -> 0
A16: TOTAL CAPITOL 1 | C16: =C12+C13+C14+C15 -> 0 | D16: =D12+D13+D14+D15 -> 0 | E16: =E12+E13+E14+E15 -> 0
A17: CAPITOLUL 4
A18: Cheltuieli pentru investiţia de bază
A19: 4.1. | B19: Construcţii şi instalaţii | C19: =C20 -> 840000 | D19: =D20 -> 176400 | E19: =E20 -> 1016400 | G19: PU[eur]/mp | H19: mp
B20: 4.1.1. Construire teren sport | C20: 840000 | D20: =ROUND(C20*$D$8,2) -> 176400 | E20: =C20+D20 -> 1016400 | G20: 1650 | H20: 160
A21: TOTAL I - subcap. 4.1 | C21: =C19 -> 840000 | D21: =D19 -> 176400 | E21: =E19 -> 1016400
A22: 4.2 | B22: Montaj utilaje, echipamente tehnologice şi funcţionale | C22: ='LISTA DE UTILAJE'!G12 -> 0 | D22: =ROUND(C22*$D$8,2) -> 0 | E22: =C22+D22 -> 0
A23: TOTAL II - subcap. 4.2 | C23: =C22 -> 0 | D23: =D22 -> 0 | E23: =E22 -> 0
A24: 4.3 | B24: Utilaje, echipamente tehnologice şi funcţionale care necesită montaj | C24: ='LISTA DE UTILAJE'!E12 -> 0 | D24: =ROUND(C24*$D$8,2) -> 0 | E24: =C24+D24 -> 0
A25: 4.4 | B25: Utilaje, echipamente tehnologice şi funcţionale care nu necesită montaj şi echipamente de transport | C25: 0 | D25: =ROUND(C25*$D$8,2) -> 0 | E25: =C25+D25 -> 0
A26: 4.5 | B26: Dotari | C26: ='LISTA DOTARI MOBILARE'!E12 -> 41850 | D26: =ROUND(C26*$D$8,2) -> 8788.5 | E26: =C26+D26 -> 50638.5
A27: 4.6 | B27: Active necorporale. | C27: 0 | D27: =ROUND(C27*$D$8,2) -> 0 | E27: =C27+D27 -> 0
A28: TOTAL III - subcap. 4.3+4.4+4.5+4.6 | C28: =SUM(C24:C27) -> 41850 | D28: =SUM(D24:D27) -> 8788.5 | E28: =SUM(E24:E27) -> 50638.5
A29: Total deviz pe obiect (Total I+ Total II + Total III) | C29: =C16+C21+C23+C28 -> 881850 | D29: =D16+D21+D23+D28 -> 185188.5 | E29: =E16+E21+E23+E28 -> 1067038.5
A30: Curs ghid | C30: auguast 2026 | D30: euro / lei | E30: 5.2434
A32: Data: | B32: auguast 2026
B33: Întocmit: | C33: AT STUDIO SRL
B34: Director proiect: | C34: Ing.C.V. ASZALOS TIBOR ALBERT
B35: Functia: | C35: DIRECTOR PROIECT
B38: Beneficiar/Investitor: | C38: MUNICIPIUL TARGU MURES

Sheet LISTA DE UTILAJE
A1: LISTA UTILAJE, ECHIPAMENTE TEHNOLOGICE SI FUNCTIONALE CARE NECESITA MONTAJ
A2: al obiectivului de investiţii
A3: ”AMENAJARE TEREN SPORT STRADA BUSUIOCULUI - REAMENAJARE” MUNICIPIUL TÂRGU MUREŞ, JUD. MUREȘ
A5: Nr. crt. | B5: Denumire | C5: Buc | D5: PU [lei] | E5: VT [lei] | F5: PU MONTAJ [lei] | G5: MONTAJ [lei] | H5: FT | I5: PLA
A6: 1 | B6: 2 | C6: 3 | D6: 4 | E6: 5 | F6: 6 | G6: 6 | H6: 7
A7: 1 | B7: Container funcțional (grup sanitar, vestiar și spațiu de depozitare) | C7: 0 | D7: 33250 | E7: =C7*D7 -> 0 | F7: 19000 | G7: =C7*F7 -> 0 | H7: 1
A8: 2 | B8: Tribună / loc de odihnă | C8: 0 | D8: 15000 | E8: =C8*D8 -> 0 | F8: 7000 | G8: =C8*F8 -> 0 | H8: 2
A9: 3 | B9: Sistem de iluminat al terenului multisport | C9: 0 | D9: 24500 | E9: =C9*D9 -> 0 | F9: 16200 | G9: =C9*F9 -> 0 | H9: 3
A10: 4 | B10: Sistem de supraveghere video (CCTV) și transmiterea datelor | C10: 0 | D10: 4800 | E10: =C10*D10 -> 0 | F10: 4400 | G10: =C10*F10 -> 0 | H10: 4
A11: 5 | B11: Stalp de iluminat ornamental tip ST1, hutil maxim=4ml, echipat | C11: 0 | D11: 1500 | E11: =C11*D11 -> 0 | F11: 1000 | G11: =C11*F11 -> 0 | H11: 5
B12: TOTAL UTILAJE SI ECHIPAMENTE | C12: =SUM(C7:C11) -> 0 | E12: =SUM(E7:E11) -> 0 | G12: =SUM(G7:G11) -> 0
A14: Data: | B14: auguast 2026
B15: Întocmit: AT STUDIO SRL | E15: Beneficiar/Investitor: MUNICIPIUL TARGU MURES

Sheet LISTA DOTARI MOBILARE
A2: LISTA DOTARI SI MOBILARE
A3: al obiectivului de investiţii
A4: ”AMENAJARE TEREN SPORT STRADA BUSUIOCULUI - REAMENAJARE” MUNICIPIUL TÂRGU MUREŞ, JUD. MUREȘ
A6: Nr. crt. | B6: Denumire | C6: Buc | D6: PU [lei] | E6: VT [lei] | F6: FT
A7: 1 | B7: 2 | C7: 3 | D7: 4 | E7: 5 | F7: 8
B8: DOTARI MOBILARE GENERALA
A9: 1 | B9: Set de accesorii sportive pentru dotarea terenului multifuncțional | C9: 1 | D9: 22000 | E9: =C9*D9 -> 22000 | F9: 6
A10: 2 | B10: Banca stradala cu spatar central cu lemn | C10: 1 | D10: 15500 | E10: =C10*D10 -> 15500 | F10: 7
A11: 9 | B11: Cos stradal de gunoi pentru colectare selectiva | C11: 3 | D11: 1450 | E11: =C11*D11 -> 4350 | F11: 8
B12: TOTAL MOBILARE GENERALA PARC | C12: =SUM(C9:C11) -> 5 | E12: =SUM(E9:E11) -> 41850 | G12: la obiect parc
A15: Data: | B15: auguast 2026
B16: Întocmit: | C16: AT STUDIO SRL
B17: Director proiect: | C17: Ing.C.V. ASZALOS TIBOR ALBERT
B18: Functia: | C18: DIRECTOR PROIECT
B21: Beneficiar/Investitor: | C21: MUNICIPIUL TARGU MURES
